BEGIN:VCALENDAR
VERSION:2.0
PRODID:-//Valence-en-Brie - ECPv6.15.17.1//NONSGML v1.0//EN
CALSCALE:GREGORIAN
METHOD:PUBLISH
X-WR-CALNAME:Valence-en-Brie
X-ORIGINAL-URL:https://www.valence-en-brie.fr
X-WR-CALDESC:Évènements pour Valence-en-Brie
REFRESH-INTERVAL;VALUE=DURATION:PT1H
X-Robots-Tag:noindex
X-PUBLISHED-TTL:PT1H
BEGIN:VTIMEZONE
TZID:Europe/Paris
BEGIN:DAYLIGHT
TZOFFSETFROM:+0100
TZOFFSETTO:+0200
TZNAME:CEST
DTSTART:20250330T010000
END:DAYLIGHT
BEGIN:STANDARD
TZOFFSETFROM:+0200
TZOFFSETTO:+0100
TZNAME:CET
DTSTART:20251026T010000
END:STANDARD
BEGIN:DAYLIGHT
TZOFFSETFROM:+0100
TZOFFSETTO:+0200
TZNAME:CEST
DTSTART:20260329T010000
END:DAYLIGHT
BEGIN:STANDARD
TZOFFSETFROM:+0200
TZOFFSETTO:+0100
TZNAME:CET
DTSTART:20261025T010000
END:STANDARD
BEGIN:DAYLIGHT
TZOFFSETFROM:+0100
TZOFFSETTO:+0200
TZNAME:CEST
DTSTART:20270328T010000
END:DAYLIGHT
BEGIN:STANDARD
TZOFFSETFROM:+0200
TZOFFSETTO:+0100
TZNAME:CET
DTSTART:20271031T010000
END:STANDARD
END:VTIMEZONE
BEGIN:VEVENT
DTSTART;TZID=Europe/Paris:20260111T110000
DTEND;TZID=Europe/Paris:20260111T130000
DTSTAMP:20260421T141719
CREATED:20251010T144222Z
LAST-MODIFIED:20251013T124624Z
UID:6162-1768129200-1768136400@www.valence-en-brie.fr
SUMMARY:Cérémonie des Vœux du Maire 2026
DESCRIPTION:La cérémonie des Vœux du Maire aura lieu le Dimanche 11 janvier 2026 à 11h00\, à la Salle des Fêtes Marius-Albert.
URL:https://www.valence-en-brie.fr/evenement/ceremonie-des-voeux-du-maire-2025/
LOCATION:Salle des fêtes\, Place de l'église\, Valence-en-Brie\, Seine-et-Marne\, 77830\, France
CATEGORIES:Cérémonie
ATTACH;FMTTYPE=image/jpeg:https://www.valence-en-brie.fr/wp-content/uploads/sites/10/2025/10/VOEUX-2026-POUR-COMMUNICATION.jpg
ORGANIZER;CN="Mairie de Valence-en-Brie":MAILTO:mairiedevalenceenbrie@wanadoo.fr
END:VEVENT
END:VCALENDAR