BEGIN:VCALENDAR
VERSION:2.0
PRODID:-//Valence-en-Brie - ECPv6.15.17.1//NONSGML v1.0//EN
CALSCALE:GREGORIAN
METHOD:PUBLISH
X-ORIGINAL-URL:https://www.valence-en-brie.fr
X-WR-CALDESC:Évènements pour Valence-en-Brie
REFRESH-INTERVAL;VALUE=DURATION:PT1H
X-Robots-Tag:noindex
X-PUBLISHED-TTL:PT1H
BEGIN:VTIMEZONE
TZID:Europe/Paris
BEGIN:DAYLIGHT
TZOFFSETFROM:+0100
TZOFFSETTO:+0200
TZNAME:CEST
DTSTART:20240331T010000
END:DAYLIGHT
BEGIN:STANDARD
TZOFFSETFROM:+0200
TZOFFSETTO:+0100
TZNAME:CET
DTSTART:20241027T010000
END:STANDARD
BEGIN:DAYLIGHT
TZOFFSETFROM:+0100
TZOFFSETTO:+0200
TZNAME:CEST
DTSTART:20250330T010000
END:DAYLIGHT
BEGIN:STANDARD
TZOFFSETFROM:+0200
TZOFFSETTO:+0100
TZNAME:CET
DTSTART:20251026T010000
END:STANDARD
BEGIN:DAYLIGHT
TZOFFSETFROM:+0100
TZOFFSETTO:+0200
TZNAME:CEST
DTSTART:20260329T010000
END:DAYLIGHT
BEGIN:STANDARD
TZOFFSETFROM:+0200
TZOFFSETTO:+0100
TZNAME:CET
DTSTART:20261025T010000
END:STANDARD
END:VTIMEZONE
BEGIN:VEVENT
DTSTART;TZID=Europe/Paris:20251207T100000
DTEND;TZID=Europe/Paris:20251207T173000
DTSTAMP:20260421T135720
CREATED:20251119T083045Z
LAST-MODIFIED:20251119T083045Z
UID:6191-1765101600-1765128600@www.valence-en-brie.fr
SUMMARY:Marché de Noël
DESCRIPTION:Le V.A.A.V vous propose son « Marché de Noël » le dimanche 7 décembre de 10h à 17h30\, à la salle des fêtes Marius-Albert. Le Père-Noël sera présent de 10h30 à 12h !\nSur place vous trouverez des artisans\, des créateurs et bien d’autres ! \nRestauration sur place – Huîtres et Vin Chaud
URL:https://www.valence-en-brie.fr/evenement/marche-de-noel-2/
LOCATION:Salle des fêtes\, Place de l'église\, Valence-en-Brie\, Seine-et-Marne\, 77830\, France
CATEGORIES:associative
ATTACH;FMTTYPE=image/jpeg:https://www.valence-en-brie.fr/wp-content/uploads/sites/10/2025/11/MARCHE-DE-NOEL.jpg
END:VEVENT
BEGIN:VEVENT
DTSTART;TZID=Europe/Paris:20251213T190000
DTEND;TZID=Europe/Paris:20251213T233000
DTSTAMP:20260421T135720
CREATED:20251124T084142Z
LAST-MODIFIED:20251124T084142Z
UID:6194-1765652400-1765668600@www.valence-en-brie.fr
SUMMARY:Chanté Nwèl
DESCRIPTION:Comme l’an passé l’association Kintésens organise le traditionnel « Chanté Nwèl » le samedi 13 décembre 2025 !\nL’association vous accueillera à partir de 19h\, à la salle des fêtes Marius-Albert. \nAu programme\, repas\, animations\, chants de Noël et soirée dansante animée par « Bel Ka Kreyol » ! \nRéservation conseillée car les places sont limitées !\nTarifs : à partir de 12€ / Zoukeur : 5€ (à partir de 23h). \nasc.kintesens@gmail.com
URL:https://www.valence-en-brie.fr/evenement/chante-nwel/
LOCATION:Salle des fêtes\, Place de l'église\, Valence-en-Brie\, Seine-et-Marne\, 77830\, France
CATEGORIES:associative
ATTACH;FMTTYPE=image/jpeg:https://www.valence-en-brie.fr/wp-content/uploads/sites/10/2025/11/Flyer-chante-Nwel_13.12.25-format-JPEG.jpeg
END:VEVENT
END:VCALENDAR